BEGIN:VCALENDAR
VERSION:2.0
PRODID:-//198.54.115.77//NONSGML kigkonsult.se iCalcreator 2.26.9//
CALSCALE:GREGORIAN
METHOD:PUBLISH
X-WR-CALNAME:Riverina Producers&#039\; Market
X-WR-CALDESC:Wagga&#039\;s farmers market - every Thursday
X-FROM-URL:http://riverinaproducersmarket.com.au
X-WR-TIMEZONE:Australia/Sydney
BEGIN:VTIMEZONE
TZID:Australia/Sydney
X-LIC-LOCATION:Australia/Sydney
BEGIN:STANDARD
DTSTART:20200405T030000
TZOFFSETFROM:+1100
TZOFFSETTO:+1000
RDATE:20210404T030000
TZNAME:AEST
END:STANDARD
BEGIN:DAYLIGHT
DTSTART:20191006T020000
TZOFFSETFROM:+1000
TZOFFSETTO:+1100
RDATE:20201004T020000
TZNAME:AEDT
END:DAYLIGHT
END:VTIMEZONE
BEGIN:VEVENT
UID:ai1ec-820@riverinaproducersmarket.com.au
DTSTAMP:20200226T114309Z
CATEGORIES:
CONTACT:
DESCRIPTION:
DTSTART;TZID=Australia/Sydney:20170518T130000
DTEND;TZID=Australia/Sydney:20170518T183000
GEO:-35.125488;+147.35338
LOCATION:Hammond Hall @ Wagga Wagga Showgrounds\, Cnr Bourke Street & Urana
  Street\, Wagga\, NSW 2650\, Australia
RRULE:FREQ=WEEKLY;BYDAY=TH;WKST=SU
SEQUENCE:0
SUMMARY:Riverina Producers Market
URL:http://riverinaproducersmarket.com.au/event/riverina-producers-market/
X-COST-TYPE:free
END:VEVENT
END:VCALENDAR
